BEGIN:VCALENDAR
VERSION:2.0
PRODID:-//Junior Footy Academy - ECPv4.6//NONSGML v1.0//EN
CALSCALE:GREGORIAN
METHOD:PUBLISH
X-WR-CALNAME:Junior Footy Academy
X-ORIGINAL-URL:http://www.juniorfootyacademy.com.au
X-WR-CALDESC:Events for Junior Footy Academy
BEGIN:VEVENT
DTSTART;TZID=UTC+0:20150210T151500
DTEND;TZID=UTC+0:20150210T161500
DTSTAMP:20200229T065223
CREATED:20150213T034657Z
LAST-MODIFIED:20150213T034657Z
UID:413-1423581300-1423584900@www.juniorfootyacademy.com.au
SUMMARY:Parkhurst SS T1 A/S Program-Week1
DESCRIPTION:  \n
URL:http://www.juniorfootyacademy.com.au/event/parkhurst-ss-t1-program-week1/
CATEGORIES:After-School Programs,Kids Footy Programs,Term-1 After-School Programs
ORGANIZER;CN="Junior%20Footy%20Academy":MAILTO:info@juniorfootyacademy.com.au
END:VEVENT
END:VCALENDAR