BEGIN:VCALENDAR
VERSION:2.0
PRODID:-//Junior Footy Academy - ECPv4.6//NONSGML v1.0//EN
CALSCALE:GREGORIAN
METHOD:PUBLISH
X-WR-CALNAME:Junior Footy Academy
X-ORIGINAL-URL:http://www.juniorfootyacademy.com.au
X-WR-CALDESC:Events for Junior Footy Academy
BEGIN:VEVENT
DTSTART;TZID=UTC+0:20150204T090000
DTEND;TZID=UTC+0:20150204T150000
DTSTAMP:20200229T064355
CREATED:20150213T002711Z
LAST-MODIFIED:20150213T002711Z
UID:393-1423040400-1423062000@www.juniorfootyacademy.com.au
SUMMARY:Promo Day - St. Paul's School
DESCRIPTION:
URL:http://www.juniorfootyacademy.com.au/event/promo-day-st-pauls-school/
LOCATION:Gracemere
ORGANIZER;CN="Junior%20Footy%20Academy":MAILTO:info@juniorfootyacademy.com.au
END:VEVENT
END:VCALENDAR