BEGIN:VCALENDAR
VERSION:2.0
PRODID:-//Junior Footy Academy - ECPv4.6//NONSGML v1.0//EN
CALSCALE:GREGORIAN
METHOD:PUBLISH
X-WR-CALNAME:Junior Footy Academy
X-ORIGINAL-URL:http://www.juniorfootyacademy.com.au
X-WR-CALDESC:Events for Junior Footy Academy
BEGIN:VEVENT
DTSTART;TZID=UTC+0:20180412T140000
DTEND;TZID=UTC+0:20180412T170000
DTSTAMP:20200229T063125
CREATED:20180326T030856Z
LAST-MODIFIED:20180326T030856Z
UID:664-1523541600-1523552400@www.juniorfootyacademy.com.au
SUMMARY:Rockhampton JFA Clinic - Easter School Holidays
DESCRIPTION:JFA EASTER HOLIDAY \n CLINICS \nROCKHAMPTON \n  \nWHAT’s ON? \n Junior Footy Academy (JFA) is running an APRIL Holiday clinic in ROCKY!\nIf your son/daughter loves their rugby league this will be for them! It’s FOOTY and it’s FUN!! \nWHAT IS JFA? \n Junior Footy Academy is a fun\, rugby league-based footy academy for all children from age 3-12 years.\nWe focus on providing fun\, memorable experiences through footy clinics and programs that kids absolutely love. \nWHEN? \nTHURSDAY\, 12th APRIL – 2018 \n\n\n\nTime \nActivity\nAges\n\n\n02:00 PM – 02:55 PM           \nIntro to Footy         \n3-6 Years Old\n\n\n03:00 PM – 05:00 PM\nJFA Clinic \n6-12 Years Old\n\n\n\n \nWHERE? \nBrowne Park\, Rockhampton  \nWHAT does it cost?    \n\n\n\n EARLY BIRD PRICES\n ( Register by 8th April\, 2018)\n\n\n Intro to Footy ( 3-6 Years )      \n $12.50\n\n\n JFA Clinic ( 6-12 Years )\n $14\n\n\n\n\n\n\n REGULAR PRICES \n ( Register after Earlybird period )\n\n\n Intro to Footy ( 3-6 Years )      \n $17.50\n\n\n JFA Clinic ( 6-12 Years )\n $19\n\n\n\n\nHOW DO I BOOK A SPOT? \n You can book and pay online – it is very easy. Just click on continue below and fill out the registration!                           \n Check out our website: www.juniorfootyacademy.com.au \n \n  \n  \n
URL:http://www.juniorfootyacademy.com.au/event/rockhampton-jfa-clinic-easter-school-holidays/
LOCATION:Murray & Cambridge Street\, Rockhampton\, Queensland\, 4700
CATEGORIES:Holiday Clinics
ORGANIZER;CN="Junior%20Footy%20Academy":MAILTO:info@juniorfootyacademy.com.au
END:VEVENT
END:VCALENDAR