BEGIN:VCALENDAR
VERSION:2.0
PRODID:-//Junior Footy Academy - ECPv4.6//NONSGML v1.0//EN
CALSCALE:GREGORIAN
METHOD:PUBLISH
X-WR-CALNAME:Junior Footy Academy
X-ORIGINAL-URL:http://www.juniorfootyacademy.com.au
X-WR-CALDESC:Events for Junior Footy Academy
BEGIN:VEVENT
DTSTART;TZID=UTC+0:20150206T040000
DTEND;TZID=UTC+0:20150206T183000
DTSTAMP:20200229T063738
CREATED:20150108T080758Z
LAST-MODIFIED:20150213T004324Z
UID:162-1423195200-1423247400@www.juniorfootyacademy.com.au
SUMMARY:Moura Tigers JRL Sign-on
DESCRIPTION: \n
URL:http://www.juniorfootyacademy.com.au/event/sample-calendar/
LOCATION:Moura 
CATEGORIES:JRL Sign-on Days
ORGANIZER;CN="Junior%20Footy%20Academy":MAILTO:info@juniorfootyacademy.com.au
END:VEVENT
END:VCALENDAR